BEGIN:VCALENDAR
VERSION:2.0
PRODID:-//Frankie hi-nrg mc Official Website - ECPv6.15.20//NONSGML v1.0//EN
CALSCALE:GREGORIAN
METHOD:PUBLISH
X-ORIGINAL-URL:https://frankie.tv
X-WR-CALDESC:Eventi per Frankie hi-nrg mc Official Website
REFRESH-INTERVAL;VALUE=DURATION:PT1H
X-Robots-Tag:noindex
X-PUBLISHED-TTL:PT1H
BEGIN:VTIMEZONE
TZID:UTC
BEGIN:STANDARD
TZOFFSETFROM:+0000
TZOFFSETTO:+0000
TZNAME:UTC
DTSTART:20230101T000000
END:STANDARD
END:VTIMEZONE
BEGIN:VEVENT
DTSTART;TZID=UTC:20250801T000000
DTEND;TZID=UTC:20250801T235959
DTSTAMP:20260423T165515
CREATED:20250602T161220Z
LAST-MODIFIED:20250602T162005Z
UID:606-1754006400-1754092799@frankie.tv
SUMMARY:Dj Set - Palma Campania (NA)
DESCRIPTION:Dj Set @ Palma Campania (NA) c/o Tribucstock / Pineta Tribucchi
URL:https://frankie.tv/evento/dj-set-palma-campania-na/
CATEGORIES:Dj Set
ATTACH;FMTTYPE=image/png:https://frankie.tv/wp-content/uploads/2025/06/logo.png
END:VEVENT
BEGIN:VEVENT
DTSTART;TZID=UTC:20250726T000000
DTEND;TZID=UTC:20250726T235959
DTSTAMP:20260423T165515
CREATED:20250425T225111Z
LAST-MODIFIED:20250721T141202Z
UID:583-1753488000-1753574399@frankie.tv
SUMMARY:Dj Set - Chianciano Terme (SI)
DESCRIPTION:Dj set @ Chianciano Terme (SI) c/o Festa della Musica\, Parco Fucoli
URL:https://frankie.tv/evento/dj-set-chianciano-terme-si/
LOCATION:Chianciano Terme\, parco Fucoli\, Chianciano Terme\, Italy
CATEGORIES:Dj Set
ATTACH;FMTTYPE=image/jpeg:https://frankie.tv/wp-content/uploads/2025/04/498340124_724648186747040_2490728883204058634_n.jpg
END:VEVENT
BEGIN:VEVENT
DTSTART;TZID=UTC:20250722T000000
DTEND;TZID=UTC:20250722T235959
DTSTAMP:20260423T165515
CREATED:20250720T163345Z
LAST-MODIFIED:20250720T163345Z
UID:683-1753142400-1753228799@frankie.tv
SUMMARY:Dj Set - Pizzo (VV)
DESCRIPTION:Dj Set a Pizzo (VV) per MURAP c/o Piazza della Repubblica\, ore 22:00
URL:https://frankie.tv/evento/dj-set-pizzo-vv/
LOCATION:Pizzo (VV)\, piazza della Repubblica\, Pizzo\, Italy
CATEGORIES:Dj Set
ATTACH;FMTTYPE=image/jpeg:https://frankie.tv/wp-content/uploads/2025/07/MURAP-Frankie-hi-nrg-mc-692x1024-1.jpg
END:VEVENT
BEGIN:VEVENT
DTSTART;TZID=UTC:20250710T000000
DTEND;TZID=UTC:20250710T235959
DTSTAMP:20260423T165515
CREATED:20250425T224952Z
LAST-MODIFIED:20250425T225007Z
UID:581-1752105600-1752191999@frankie.tv
SUMMARY:Monologo Teatrale - Montecchio Maggiore (PD)
DESCRIPTION:Monologo teatrale “Faccio la mia cosa” @ Montecchio Maggiore (PD)
URL:https://frankie.tv/evento/monologo-teatrale-montecchio-maggiore-pd/
CATEGORIES:Reading Teatrale
END:VEVENT
BEGIN:VEVENT
DTSTART;TZID=UTC:20250704T000000
DTEND;TZID=UTC:20250704T235959
DTSTAMP:20260423T165515
CREATED:20250602T161530Z
LAST-MODIFIED:20250602T161530Z
UID:611-1751587200-1751673599@frankie.tv
SUMMARY:Voce e Batteria - Roma
DESCRIPTION:Live Voce e Batteria @Alcazar Garden – Roma
URL:https://frankie.tv/evento/voce-e-batteria-roma/
CATEGORIES:Voce e Batteria
END:VEVENT
BEGIN:VEVENT
DTSTART;TZID=UTC:20250629T000000
DTEND;TZID=UTC:20250629T235959
DTSTAMP:20260423T165515
CREATED:20250602T161434Z
LAST-MODIFIED:20250602T161434Z
UID:609-1751155200-1751241599@frankie.tv
SUMMARY:Voce e Batteria - Moncalvo (AT)
DESCRIPTION:Live Voce e Batteria @Moncalvo (AT)
URL:https://frankie.tv/evento/voce-e-batteria-moncalvo-at/
CATEGORIES:Voce e Batteria
END:VEVENT
BEGIN:VEVENT
DTSTART;TZID=UTC:20250628T000000
DTEND;TZID=UTC:20250628T235959
DTSTAMP:20260423T165515
CREATED:20250425T224852Z
LAST-MODIFIED:20250602T160253Z
UID:579-1751068800-1751155199@frankie.tv
SUMMARY:Special Guest - Torino
DESCRIPTION:Special Guest @ Torino Soul Festival – Cacao Torino Moncalieri (TO)
URL:https://frankie.tv/evento/special-guest-torino/
LOCATION:Torino Soul Festival\, Via Regione Freylia Mezzi\, 47\, Moncalieri (TO)
CATEGORIES:Special Guest
ATTACH;FMTTYPE=image/jpeg:https://frankie.tv/wp-content/uploads/2025/04/images.jpg
END:VEVENT
BEGIN:VEVENT
DTSTART;TZID=UTC:20250627T000000
DTEND;TZID=UTC:20250627T235959
DTSTAMP:20260423T165515
CREATED:20250425T224725Z
LAST-MODIFIED:20250425T224725Z
UID:576-1750982400-1751068799@frankie.tv
SUMMARY:Dj Set - Finale Emilia (MO)
DESCRIPTION:Dj Set @ Stazione Rulli Frulli a Finale Emilia (MO)
URL:https://frankie.tv/evento/dj-set-finale-emilia-mo/
LOCATION:Finale Emilia (MO)\, Finale Emilia (MO)
CATEGORIES:Dj Set
END:VEVENT
BEGIN:VEVENT
DTSTART;TZID=UTC:20250624T000000
DTEND;TZID=UTC:20250624T235959
DTSTAMP:20260423T165515
CREATED:20250602T155900Z
LAST-MODIFIED:20250602T155900Z
UID:595-1750723200-1750809599@frankie.tv
SUMMARY:Voce e Batteria - Milano
DESCRIPTION:Live “Voce e Batteria” @ Circolo Magnolia – Milano
URL:https://frankie.tv/evento/voce-e-batteria-milano/
LOCATION:Magnolia\, via Circonvallazione Idroscalo\, 41\, Novegro (MI)
CATEGORIES:Voce e Batteria
ATTACH;FMTTYPE=image/jpeg:https://frankie.tv/wp-content/uploads/2025/06/4afdcdc2-80df-4667-ac43-e39448a5fe30.jpg
END:VEVENT
BEGIN:VEVENT
DTSTART;TZID=UTC:20250622T000000
DTEND;TZID=UTC:20250622T235959
DTSTAMP:20260423T165515
CREATED:20250425T224610Z
LAST-MODIFIED:20250602T160535Z
UID:573-1750550400-1750636799@frankie.tv
SUMMARY:Showcase - San Giustino (PG)
DESCRIPTION:Showcase @ San Giustino (PG)
URL:https://frankie.tv/evento/showcase-san-giustino-pg/
LOCATION:San Giustino (PG)\, San Giustino (PG)
CATEGORIES:Showcase Live
ATTACH;FMTTYPE=image/jpeg:https://frankie.tv/wp-content/uploads/2025/04/images-2.jpg
END:VEVENT
BEGIN:VEVENT
DTSTART;TZID=UTC:20250621T000000
DTEND;TZID=UTC:20250621T235959
DTSTAMP:20260423T165515
CREATED:20250425T224446Z
LAST-MODIFIED:20250602T160438Z
UID:570-1750464000-1750550399@frankie.tv
SUMMARY:Showcase - Soliera (MO)
DESCRIPTION:Showcase @ Soliera (MO)
URL:https://frankie.tv/evento/showcase-soliera-mo/
LOCATION:Soliera (MO)\, Soliera (MO)
CATEGORIES:Showcase Live
ATTACH;FMTTYPE=image/jpeg:https://frankie.tv/wp-content/uploads/2025/04/images-1.jpg
END:VEVENT
BEGIN:VEVENT
DTSTART;TZID=UTC:20250614T000000
DTEND;TZID=UTC:20250614T235959
DTSTAMP:20260423T165515
CREATED:20250602T155426Z
LAST-MODIFIED:20250602T155426Z
UID:591-1749859200-1749945599@frankie.tv
SUMMARY:Dj Set - Canepina (VT)
DESCRIPTION:Dj set @ Canepina (VT)
URL:https://frankie.tv/evento/dj-set-canepina-vt/
LOCATION:Canepina\, piazzale 1° Maggio\, Canepina (VT)
CATEGORIES:Dj Set
ATTACH;FMTTYPE=image/jpeg:https://frankie.tv/wp-content/uploads/2025/06/canepina_frankie.jpg
END:VEVENT
BEGIN:VEVENT
DTSTART;TZID=UTC:20250604T000000
DTEND;TZID=UTC:20250604T235959
DTSTAMP:20260423T165515
CREATED:20250425T224325Z
LAST-MODIFIED:20250425T224325Z
UID:566-1748995200-1749081599@frankie.tv
SUMMARY:Dj Set - Roncadello (FC)
DESCRIPTION:Dj Set @ Birrandello 2025\, Festa della Birra di Roncadello (FC)
URL:https://frankie.tv/evento/dj-set-roncadello-fc/
LOCATION:Roncadello (FC)\, Roncadello (FC)
CATEGORIES:Dj Set
ATTACH;FMTTYPE=image/png:https://frankie.tv/wp-content/uploads/2025/04/Screenshot-2025-04-26-alle-00.41.23.png
END:VEVENT
BEGIN:VEVENT
DTSTART;TZID=UTC:20250426T000000
DTEND;TZID=UTC:20250426T235959
DTSTAMP:20260423T165515
CREATED:20250425T224023Z
LAST-MODIFIED:20250425T224023Z
UID:562-1745625600-1745711999@frankie.tv
SUMMARY:Special Guest - Reggio Emilia
DESCRIPTION:Ospite dell’evento “Semplicemente Frida” @ Teatro Cavallerizza – Reggio Emilia in occasione del Festival Fotografia 2025
URL:https://frankie.tv/evento/special-guest-reggio-emilia/
LOCATION:Reggio Emilia\, Reggio Emilia
CATEGORIES:Special Guest
END:VEVENT
BEGIN:VEVENT
DTSTART;TZID=UTC:20250425T000000
DTEND;TZID=UTC:20250425T235959
DTSTAMP:20260423T165515
CREATED:20250425T223747Z
LAST-MODIFIED:20250425T223747Z
UID:559-1745539200-1745625599@frankie.tv
SUMMARY:Showcase - Fossoli (MO)
DESCRIPTION:Showcase @ Campo di Fossoli (MO) per la Festa della Liberazione – 25 Aprile
URL:https://frankie.tv/evento/showcase-fossoli-mo/
LOCATION:Fossoli (MO)
CATEGORIES:Showcase Live
END:VEVENT
BEGIN:VEVENT
DTSTART;TZID=UTC:20250411T000000
DTEND;TZID=UTC:20250411T235959
DTSTAMP:20260423T165515
CREATED:20250425T222739Z
LAST-MODIFIED:20250425T222739Z
UID:556-1744329600-1744415999@frankie.tv
SUMMARY:Reading Teatrale - Bassano del Grappa (VI)
DESCRIPTION:Reading teatrale “Faccio la mia cosa” c/o Auditorium A. Vivaldi a Montecchio – Bassano del Grappa (VI)
URL:https://frankie.tv/evento/reading-teatrale-bassano-del-grappa-vi/
LOCATION:Montecchio (VI)\, Montecchio
CATEGORIES:Reading Teatrale
END:VEVENT
BEGIN:VEVENT
DTSTART;TZID=UTC:20250405T000000
DTEND;TZID=UTC:20250405T235959
DTSTAMP:20260423T165515
CREATED:20250425T222540Z
LAST-MODIFIED:20250425T222540Z
UID:553-1743811200-1743897599@frankie.tv
SUMMARY:Special Guest - Iglesias (CI)
DESCRIPTION:
URL:https://frankie.tv/evento/special-guest-iglesias-ci/
LOCATION:Iglesias
CATEGORIES:Special Guest
END:VEVENT
BEGIN:VEVENT
DTSTART;TZID=UTC:20241231T000000
DTEND;TZID=UTC:20241231T235959
DTSTAMP:20260423T165515
CREATED:20241205T155543Z
LAST-MODIFIED:20241205T155543Z
UID:547-1735603200-1735689599@frankie.tv
SUMMARY:Dj Set - Ancona
DESCRIPTION:Dj Set @ Ancona c/o Palaprometeo (ex Palarossini)
URL:https://frankie.tv/evento/dj-set-ancona/
LOCATION:Ancona\, Strada Statale Cameranense\, Località Passo Varano\, AN\, Italy
CATEGORIES:Dj Set
ATTACH;FMTTYPE=image/png:https://frankie.tv/wp-content/uploads/2024/12/Screenshot-2024-12-05-alle-16.54.35.png
END:VEVENT
BEGIN:VEVENT
DTSTART;TZID=UTC:20241229T000000
DTEND;TZID=UTC:20241229T235959
DTSTAMP:20260423T165515
CREATED:20241205T155057Z
LAST-MODIFIED:20241205T155057Z
UID:543-1735430400-1735516799@frankie.tv
SUMMARY:Dj Set - Imola (BO)
DESCRIPTION:Dj Set @Imola (BO) c/o Natale Zero Pare
URL:https://frankie.tv/evento/dj-set-imola-bo/
LOCATION:Imola\, viale Rivalta 10\, Imola\, BO\, Italy
CATEGORIES:Dj Set
ATTACH;FMTTYPE=image/png:https://frankie.tv/wp-content/uploads/2024/12/Screenshot-2024-12-05-alle-16.49.59.png
END:VEVENT
BEGIN:VEVENT
DTSTART;TZID=UTC:20241228T000000
DTEND;TZID=UTC:20241228T235959
DTSTAMP:20260423T165515
CREATED:20241205T154731Z
LAST-MODIFIED:20241205T154731Z
UID:539-1735344000-1735430399@frankie.tv
SUMMARY:Dj Set - Paestum (SA)
DESCRIPTION:Dj Set Paestum (SA) @ Capaccio c/o Scalo28
URL:https://frankie.tv/evento/dj-set-paestum-sa/
LOCATION:Capaccio\, via Magna Graecia 282\, Capaccio Paestum\, SA\, Italy
CATEGORIES:Dj Set
ATTACH;FMTTYPE=image/png:https://frankie.tv/wp-content/uploads/2024/12/Screenshot-2024-12-05-alle-16.47.06.png
END:VEVENT
BEGIN:VEVENT
DTSTART;TZID=UTC:20241213T000000
DTEND;TZID=UTC:20241213T235959
DTSTAMP:20260423T165515
CREATED:20241205T153829Z
LAST-MODIFIED:20241205T153829Z
UID:535-1734048000-1734134399@frankie.tv
SUMMARY:Dj Set - Cerignola (FG)
DESCRIPTION:Dj Set  Cerignola (FG) c/o Borgo Libertà\, piazza della Libertà – Torre Alemanna
URL:https://frankie.tv/evento/dj-set-cerignola-fg/
LOCATION:Cerignola (FO)\, piazza Libertà\, Borgo Libertà\, FG\, Italy
CATEGORIES:Dj Set
ATTACH;FMTTYPE=image/jpeg:https://frankie.tv/wp-content/uploads/2024/12/frankie-hi-nrg-mc-1495394.610x431.jpg
END:VEVENT
BEGIN:VEVENT
DTSTART;TZID=UTC:20241123T000000
DTEND;TZID=UTC:20241123T235959
DTSTAMP:20260423T165515
CREATED:20241107T231157Z
LAST-MODIFIED:20241107T231502Z
UID:528-1732320000-1732406399@frankie.tv
SUMMARY:DJ SET - Taneto di Gattatico (RE)
DESCRIPTION:Dj set – Taneto di Gattatico @ Fuori Orario
URL:https://frankie.tv/evento/dj-set-taneto-di-gattatico-re/
LOCATION:Taneto di Gattatico\, via Don Minzoni 96/B\, Taneto di Gattatico\, Italy
CATEGORIES:Dj Set
ATTACH;FMTTYPE=image/jpeg:https://frankie.tv/wp-content/uploads/2024/11/millennial-opening-il-party-90-2000-alternative-del-nord-italia-frankie-hi-nrg-djset.jpg
END:VEVENT
BEGIN:VEVENT
DTSTART;TZID=UTC:20241117T000000
DTEND;TZID=UTC:20241117T235959
DTSTAMP:20260423T165515
CREATED:20240922T131547Z
LAST-MODIFIED:20240922T131739Z
UID:518-1731801600-1731887999@frankie.tv
SUMMARY:Dj Set - Conversano (BA)
DESCRIPTION:Dj Set – Conversano (BA) @ Novello sotto il Castello c/o Castello di Conversano
URL:https://frankie.tv/evento/dj-set-conversano-ba/
LOCATION:Castello di Conversano\, corso Domenico Morea\, Conversano (BA)\, Italy
CATEGORIES:Dj Set
ATTACH;FMTTYPE=image/jpeg:https://frankie.tv/wp-content/uploads/2024/09/foto_267_1.jpg-1200x715-1.jpg
END:VEVENT
BEGIN:VEVENT
DTSTART;TZID=UTC:20241114T000000
DTEND;TZID=UTC:20241114T235959
DTSTAMP:20260423T165515
CREATED:20240922T131007Z
LAST-MODIFIED:20240922T131723Z
UID:514-1731542400-1731628799@frankie.tv
SUMMARY:Live Showcase - Torino @ Hiroshima Mon Amour
DESCRIPTION:Showcase – Torino @ Hiroshima Mon Amour
URL:https://frankie.tv/evento/showcase-torino-hiroshima-mon-amour/
LOCATION:Torino
CATEGORIES:Showcase Live
ATTACH;FMTTYPE=image/jpeg:https://frankie.tv/wp-content/uploads/2024/09/hma.jpg
END:VEVENT
BEGIN:VEVENT
DTSTART;TZID=UTC:20240927T000000
DTEND;TZID=UTC:20240927T235959
DTSTAMP:20260423T165515
CREATED:20240922T130718Z
LAST-MODIFIED:20240922T131859Z
UID:510-1727395200-1727481599@frankie.tv
SUMMARY:Dj Set Rende (CS) @ SuperScienceMe
DESCRIPTION:Dj Set a Rende (CS) @ SuperScienceMe c/o Università della Calabria
URL:https://frankie.tv/evento/dj-set-rende-cs-superscienceme/
LOCATION:Rende (CS)\, Piazza Vermicelli\, Rende (CS)\, Italy
CATEGORIES:Dj Set
ATTACH;FMTTYPE=image/jpeg:https://frankie.tv/wp-content/uploads/2024/09/1920x1080_SUPER_ME_CTA.jpg
END:VEVENT
BEGIN:VEVENT
DTSTART;TZID=UTC:20240914T000000
DTEND;TZID=UTC:20240914T235959
DTSTAMP:20260423T165515
CREATED:20240906T092211Z
LAST-MODIFIED:20240906T092339Z
UID:504-1726272000-1726358399@frankie.tv
SUMMARY:Live Showcase - Macchia d'Isernia (IS)
DESCRIPTION:Live Showcase c/o “Macchia di vino” a Macchia d’Isernia (IS)
URL:https://frankie.tv/evento/live-showcase-macchia-disernia-is/
LOCATION:Macchia d’Isernia\, Macchia d'Isernia\, IS\, Italy
CATEGORIES:Showcase Live
ATTACH;FMTTYPE=image/png:https://frankie.tv/wp-content/uploads/2024/09/Screenshot-2024-09-06-alle-11.18.39.png
END:VEVENT
BEGIN:VEVENT
DTSTART;TZID=UTC:20240903T000000
DTEND;TZID=UTC:20240903T235959
DTSTAMP:20260423T165515
CREATED:20240712T195746Z
LAST-MODIFIED:20240712T195746Z
UID:487-1725321600-1725407999@frankie.tv
SUMMARY:Live Showcase - Sestu (CA)
DESCRIPTION:Live Showcase c/o Sestu (CA)
URL:https://frankie.tv/evento/live-showcase-sestu-ca/
LOCATION:Sestu (CA)\, Sestu\, CA\, Italia
CATEGORIES:Showcase Live
ATTACH;FMTTYPE=image/jpeg:https://frankie.tv/wp-content/uploads/2023/03/frankie2.jpg
END:VEVENT
BEGIN:VEVENT
DTSTART;TZID=UTC:20240824T000000
DTEND;TZID=UTC:20240824T235959
DTSTAMP:20260423T165515
CREATED:20240805T131231Z
LAST-MODIFIED:20240805T131231Z
UID:498-1724457600-1724543999@frankie.tv
SUMMARY:Dj set - Vagliagli (SI)
DESCRIPTION:Dj set c/o “Birra e Salsicce” Polisportiva Vagliagli – Castelnuovo Berardenga (SI)
URL:https://frankie.tv/evento/dj-set-vagliagli-si/
LOCATION:Vagliagli (SI)\, Polisportiva Vagliagli\, Vagliagli\, SI\, Italia
CATEGORIES:Dj Set
ATTACH;FMTTYPE=image/jpeg:https://frankie.tv/wp-content/uploads/2024/08/BirraSalsicce.jpg
END:VEVENT
BEGIN:VEVENT
DTSTART;TZID=UTC:20240817T000000
DTEND;TZID=UTC:20240817T235959
DTSTAMP:20260423T165515
CREATED:20240712T195434Z
LAST-MODIFIED:20240712T195434Z
UID:483-1723852800-1723939199@frankie.tv
SUMMARY:Dj Set - San Foca / Melendugno (LE)
DESCRIPTION:Dj Set per il Blue Festival – Surf Fest c/o Surf Bar
URL:https://frankie.tv/evento/dj-set-san-foca-melendugno-le/
LOCATION:San Foca (LE)\, via Lungomare Matteotti\, 31\, San Foca\, LE\, Italia
CATEGORIES:Dj Set
ATTACH;FMTTYPE=image/png:https://frankie.tv/wp-content/uploads/2024/07/Screenshot-2024-07-12-alle-21.51.43.png
END:VEVENT
BEGIN:VEVENT
DTSTART;TZID=UTC:20240815T000000
DTEND;TZID=UTC:20240815T235959
DTSTAMP:20260423T165515
CREATED:20240721T161432Z
LAST-MODIFIED:20240721T161432Z
UID:493-1723680000-1723766399@frankie.tv
SUMMARY:Dj Set - Stintino (Ss)
DESCRIPTION:Dj Set – Stintino (Ss) c/o Street Beach spiaggia Le Saline
URL:https://frankie.tv/evento/dj-set-stintino-ss/
LOCATION:Stintino (Ss)\, Street Beach\, Stintino\, Ss\, Italia
CATEGORIES:Dj Set
ATTACH;FMTTYPE=image/jpeg:https://frankie.tv/wp-content/uploads/2024/07/IMG_4736-1.jpeg
END:VEVENT
END:VCALENDAR