BEGIN:VCALENDAR
VERSION:2.0
PRODID:-//Frankie hi-nrg mc Official Website - ECPv6.15.20//NONSGML v1.0//EN
CALSCALE:GREGORIAN
METHOD:PUBLISH
X-ORIGINAL-URL:https://frankie.tv
X-WR-CALDESC:Eventi per Frankie hi-nrg mc Official Website
REFRESH-INTERVAL;VALUE=DURATION:PT1H
X-Robots-Tag:noindex
X-PUBLISHED-TTL:PT1H
BEGIN:VTIMEZONE
TZID:UTC
BEGIN:STANDARD
TZOFFSETFROM:+0000
TZOFFSETTO:+0000
TZNAME:UTC
DTSTART:20240101T000000
END:STANDARD
END:VTIMEZONE
BEGIN:VEVENT
DTSTART;TZID=UTC:20250919T000000
DTEND;TZID=UTC:20250919T235959
DTSTAMP:20260423T183539
CREATED:20250807T133227Z
LAST-MODIFIED:20250916T155442Z
UID:713-1758240000-1758326399@frankie.tv
SUMMARY:Voce e Batteria - Ginosa (TA)
DESCRIPTION:Voce e Batteria @ Ginosa (TA)
URL:https://frankie.tv/evento/voce-e-batteria-marina-di-ginosa-ta/
LOCATION:Marina di Ginosa\, Marina di Ginosa\, TA\, Italy
CATEGORIES:Voce e Batteria
END:VEVENT
BEGIN:VEVENT
DTSTART;TZID=UTC:20250914T000000
DTEND;TZID=UTC:20250914T235959
DTSTAMP:20260423T183539
CREATED:20250807T133010Z
LAST-MODIFIED:20250807T133010Z
UID:707-1757808000-1757894399@frankie.tv
SUMMARY:Voce e Batteria - Ruvo di Puglia (BA)
DESCRIPTION:Voce e Batteria a Ruvo di Puglia (BA)
URL:https://frankie.tv/evento/voce-e-batteria-ruvo-di-puglia-ba/
LOCATION:Ruvo di Puglia\, Ruvo di Puglia\, Italy
CATEGORIES:Voce e Batteria
END:VEVENT
BEGIN:VEVENT
DTSTART;TZID=UTC:20250808T000000
DTEND;TZID=UTC:20250808T235959
DTSTAMP:20260423T183539
CREATED:20250602T161626Z
LAST-MODIFIED:20250721T140558Z
UID:613-1754611200-1754697599@frankie.tv
SUMMARY:Voce e Batteria - Spinetoli (AP)
DESCRIPTION:Live Voce e Batteria @ Spinetoli (AP)
URL:https://frankie.tv/evento/voce-e-batteria-spinetoli-ap/
LOCATION:TA
CATEGORIES:Voce e Batteria
ATTACH;FMTTYPE=image/png:https://frankie.tv/wp-content/uploads/2025/06/Screenshot-2025-07-21-alle-16.05.13.png
END:VEVENT
BEGIN:VEVENT
DTSTART;TZID=UTC:20250704T000000
DTEND;TZID=UTC:20250704T235959
DTSTAMP:20260423T183539
CREATED:20250602T161530Z
LAST-MODIFIED:20250602T161530Z
UID:611-1751587200-1751673599@frankie.tv
SUMMARY:Voce e Batteria - Roma
DESCRIPTION:Live Voce e Batteria @Alcazar Garden – Roma
URL:https://frankie.tv/evento/voce-e-batteria-roma/
LOCATION:TA
CATEGORIES:Voce e Batteria
END:VEVENT
BEGIN:VEVENT
DTSTART;TZID=UTC:20250629T000000
DTEND;TZID=UTC:20250629T235959
DTSTAMP:20260423T183539
CREATED:20250602T161434Z
LAST-MODIFIED:20250602T161434Z
UID:609-1751155200-1751241599@frankie.tv
SUMMARY:Voce e Batteria - Moncalvo (AT)
DESCRIPTION:Live Voce e Batteria @Moncalvo (AT)
URL:https://frankie.tv/evento/voce-e-batteria-moncalvo-at/
LOCATION:TA
CATEGORIES:Voce e Batteria
END:VEVENT
BEGIN:VEVENT
DTSTART;TZID=UTC:20250624T000000
DTEND;TZID=UTC:20250624T235959
DTSTAMP:20260423T183539
CREATED:20250602T155900Z
LAST-MODIFIED:20250602T155900Z
UID:595-1750723200-1750809599@frankie.tv
SUMMARY:Voce e Batteria - Milano
DESCRIPTION:Live “Voce e Batteria” @ Circolo Magnolia – Milano
URL:https://frankie.tv/evento/voce-e-batteria-milano/
LOCATION:Magnolia\, via Circonvallazione Idroscalo\, 41\, Novegro (MI)
CATEGORIES:Voce e Batteria
ATTACH;FMTTYPE=image/jpeg:https://frankie.tv/wp-content/uploads/2025/06/4afdcdc2-80df-4667-ac43-e39448a5fe30.jpg
END:VEVENT
END:VCALENDAR