BEGIN:VCALENDAR
VERSION:2.0
PRODID:-//Frankie hi-nrg mc Official Website - ECPv6.15.20//NONSGML v1.0//EN
CALSCALE:GREGORIAN
METHOD:PUBLISH
X-ORIGINAL-URL:https://frankie.tv
X-WR-CALDESC:Eventi per Frankie hi-nrg mc Official Website
REFRESH-INTERVAL;VALUE=DURATION:PT1H
X-Robots-Tag:noindex
X-PUBLISHED-TTL:PT1H
BEGIN:VTIMEZONE
TZID:UTC
BEGIN:STANDARD
TZOFFSETFROM:+0000
TZOFFSETTO:+0000
TZNAME:UTC
DTSTART:20230101T000000
END:STANDARD
END:VTIMEZONE
BEGIN:VEVENT
DTSTART;TZID=UTC:20241229T000000
DTEND;TZID=UTC:20241229T235959
DTSTAMP:20260423T200958
CREATED:20241205T155057Z
LAST-MODIFIED:20241205T155057Z
UID:543-1735430400-1735516799@frankie.tv
SUMMARY:Dj Set - Imola (BO)
DESCRIPTION:Dj Set @Imola (BO) c/o Natale Zero Pare
URL:https://frankie.tv/evento/dj-set-imola-bo/
LOCATION:Imola\, viale Rivalta 10\, Imola\, BO\, Italy
CATEGORIES:Dj Set
ATTACH;FMTTYPE=image/png:https://frankie.tv/wp-content/uploads/2024/12/Screenshot-2024-12-05-alle-16.49.59.png
END:VEVENT
BEGIN:VEVENT
DTSTART;TZID=UTC:20241228T000000
DTEND;TZID=UTC:20241228T235959
DTSTAMP:20260423T200958
CREATED:20241205T154731Z
LAST-MODIFIED:20241205T154731Z
UID:539-1735344000-1735430399@frankie.tv
SUMMARY:Dj Set - Paestum (SA)
DESCRIPTION:Dj Set Paestum (SA) @ Capaccio c/o Scalo28
URL:https://frankie.tv/evento/dj-set-paestum-sa/
LOCATION:Capaccio\, via Magna Graecia 282\, Capaccio Paestum\, SA\, Italy
CATEGORIES:Dj Set
ATTACH;FMTTYPE=image/png:https://frankie.tv/wp-content/uploads/2024/12/Screenshot-2024-12-05-alle-16.47.06.png
END:VEVENT
BEGIN:VEVENT
DTSTART;TZID=UTC:20241213T000000
DTEND;TZID=UTC:20241213T235959
DTSTAMP:20260423T200958
CREATED:20241205T153829Z
LAST-MODIFIED:20241205T153829Z
UID:535-1734048000-1734134399@frankie.tv
SUMMARY:Dj Set - Cerignola (FG)
DESCRIPTION:Dj Set  Cerignola (FG) c/o Borgo Libertà\, piazza della Libertà – Torre Alemanna
URL:https://frankie.tv/evento/dj-set-cerignola-fg/
LOCATION:Cerignola (FO)\, piazza Libertà\, Borgo Libertà\, FG\, Italy
CATEGORIES:Dj Set
ATTACH;FMTTYPE=image/jpeg:https://frankie.tv/wp-content/uploads/2024/12/frankie-hi-nrg-mc-1495394.610x431.jpg
END:VEVENT
BEGIN:VEVENT
DTSTART;TZID=UTC:20241123T000000
DTEND;TZID=UTC:20241123T235959
DTSTAMP:20260423T200958
CREATED:20241107T231157Z
LAST-MODIFIED:20241107T231502Z
UID:528-1732320000-1732406399@frankie.tv
SUMMARY:DJ SET - Taneto di Gattatico (RE)
DESCRIPTION:Dj set – Taneto di Gattatico @ Fuori Orario
URL:https://frankie.tv/evento/dj-set-taneto-di-gattatico-re/
LOCATION:Taneto di Gattatico\, via Don Minzoni 96/B\, Taneto di Gattatico\, Italy
CATEGORIES:Dj Set
ATTACH;FMTTYPE=image/jpeg:https://frankie.tv/wp-content/uploads/2024/11/millennial-opening-il-party-90-2000-alternative-del-nord-italia-frankie-hi-nrg-djset.jpg
END:VEVENT
BEGIN:VEVENT
DTSTART;TZID=UTC:20241117T000000
DTEND;TZID=UTC:20241117T235959
DTSTAMP:20260423T200958
CREATED:20240922T131547Z
LAST-MODIFIED:20240922T131739Z
UID:518-1731801600-1731887999@frankie.tv
SUMMARY:Dj Set - Conversano (BA)
DESCRIPTION:Dj Set – Conversano (BA) @ Novello sotto il Castello c/o Castello di Conversano
URL:https://frankie.tv/evento/dj-set-conversano-ba/
LOCATION:Castello di Conversano\, corso Domenico Morea\, Conversano (BA)\, Italy
CATEGORIES:Dj Set
ATTACH;FMTTYPE=image/jpeg:https://frankie.tv/wp-content/uploads/2024/09/foto_267_1.jpg-1200x715-1.jpg
END:VEVENT
BEGIN:VEVENT
DTSTART;TZID=UTC:20240927T000000
DTEND;TZID=UTC:20240927T235959
DTSTAMP:20260423T200958
CREATED:20240922T130718Z
LAST-MODIFIED:20240922T131859Z
UID:510-1727395200-1727481599@frankie.tv
SUMMARY:Dj Set Rende (CS) @ SuperScienceMe
DESCRIPTION:Dj Set a Rende (CS) @ SuperScienceMe c/o Università della Calabria
URL:https://frankie.tv/evento/dj-set-rende-cs-superscienceme/
LOCATION:Rende (CS)\, Piazza Vermicelli\, Rende (CS)\, Italy
CATEGORIES:Dj Set
ATTACH;FMTTYPE=image/jpeg:https://frankie.tv/wp-content/uploads/2024/09/1920x1080_SUPER_ME_CTA.jpg
END:VEVENT
BEGIN:VEVENT
DTSTART;TZID=UTC:20240824T000000
DTEND;TZID=UTC:20240824T235959
DTSTAMP:20260423T200958
CREATED:20240805T131231Z
LAST-MODIFIED:20240805T131231Z
UID:498-1724457600-1724543999@frankie.tv
SUMMARY:Dj set - Vagliagli (SI)
DESCRIPTION:Dj set c/o “Birra e Salsicce” Polisportiva Vagliagli – Castelnuovo Berardenga (SI)
URL:https://frankie.tv/evento/dj-set-vagliagli-si/
LOCATION:Vagliagli (SI)\, Polisportiva Vagliagli\, Vagliagli\, SI\, Italia
CATEGORIES:Dj Set
ATTACH;FMTTYPE=image/jpeg:https://frankie.tv/wp-content/uploads/2024/08/BirraSalsicce.jpg
END:VEVENT
BEGIN:VEVENT
DTSTART;TZID=UTC:20240817T000000
DTEND;TZID=UTC:20240817T235959
DTSTAMP:20260423T200958
CREATED:20240712T195434Z
LAST-MODIFIED:20240712T195434Z
UID:483-1723852800-1723939199@frankie.tv
SUMMARY:Dj Set - San Foca / Melendugno (LE)
DESCRIPTION:Dj Set per il Blue Festival – Surf Fest c/o Surf Bar
URL:https://frankie.tv/evento/dj-set-san-foca-melendugno-le/
LOCATION:San Foca (LE)\, via Lungomare Matteotti\, 31\, San Foca\, LE\, Italia
CATEGORIES:Dj Set
ATTACH;FMTTYPE=image/png:https://frankie.tv/wp-content/uploads/2024/07/Screenshot-2024-07-12-alle-21.51.43.png
END:VEVENT
BEGIN:VEVENT
DTSTART;TZID=UTC:20240815T000000
DTEND;TZID=UTC:20240815T235959
DTSTAMP:20260423T200958
CREATED:20240721T161432Z
LAST-MODIFIED:20240721T161432Z
UID:493-1723680000-1723766399@frankie.tv
SUMMARY:Dj Set - Stintino (Ss)
DESCRIPTION:Dj Set – Stintino (Ss) c/o Street Beach spiaggia Le Saline
URL:https://frankie.tv/evento/dj-set-stintino-ss/
LOCATION:Stintino (Ss)\, Street Beach\, Stintino\, Ss\, Italia
CATEGORIES:Dj Set
ATTACH;FMTTYPE=image/jpeg:https://frankie.tv/wp-content/uploads/2024/07/IMG_4736-1.jpeg
END:VEVENT
BEGIN:VEVENT
DTSTART;TZID=UTC:20240731T000000
DTEND;TZID=UTC:20240731T235959
DTSTAMP:20260423T200958
CREATED:20240712T174906Z
LAST-MODIFIED:20240712T174906Z
UID:475-1722384000-1722470399@frankie.tv
SUMMARY:Dj Set - Muro Leccese (LE)
DESCRIPTION:Dj Set per il Messapia Summer Festival c/o Piazza del Popolo
URL:https://frankie.tv/evento/dj-set-muro-leccese-le/
LOCATION:Muro Leccese (LE)\, piazza del Popolo\, Muro Leccese\, LE\, Italia
CATEGORIES:Dj Set
ATTACH;FMTTYPE=image/png:https://frankie.tv/wp-content/uploads/2024/07/Screenshot-2024-07-12-alle-19.46.51.png
END:VEVENT
BEGIN:VEVENT
DTSTART;TZID=UTC:20240728T000000
DTEND;TZID=UTC:20240728T235959
DTSTAMP:20260423T200958
CREATED:20240712T174456Z
LAST-MODIFIED:20240712T174456Z
UID:471-1722124800-1722211199@frankie.tv
SUMMARY:Dj Set - Lignano Sabbiadoro (UD)
DESCRIPTION:Dj Set per Lignano Summer Live Festival c/o Piazza Marcello D’Olivo
URL:https://frankie.tv/evento/dj-set-lignano-sabbiadoro-ud/
LOCATION:Lignano Sabbiedoro (UD)\, piazza Marcello D'Olivo\, Lignano Sabbiedoro\, UD\, Italia
CATEGORIES:Dj Set
ATTACH;FMTTYPE=image/png:https://frankie.tv/wp-content/uploads/2024/07/Screenshot-2024-07-12-alle-19.41.18.png
END:VEVENT
BEGIN:VEVENT
DTSTART;TZID=UTC:20240727T000000
DTEND;TZID=UTC:20240727T235959
DTSTAMP:20260423T200958
CREATED:20240712T173729Z
LAST-MODIFIED:20240712T174512Z
UID:467-1722038400-1722124799@frankie.tv
SUMMARY:Dj Set - San Giacomo di Roburent (CN)
DESCRIPTION:Dj Set c/o Bar Stefano
URL:https://frankie.tv/evento/dj-set-san-giacomo-di-roburent-cn/
LOCATION:San Giacomo di Roburent (CN)\, Via Sant'Anna\, 101\, San Giacomo di Roburent\, CN\, Italia
CATEGORIES:Dj Set
ATTACH;FMTTYPE=image/png:https://frankie.tv/wp-content/uploads/2024/07/Screenshot-2024-07-12-alle-19.34.13.png
END:VEVENT
BEGIN:VEVENT
DTSTART;TZID=UTC:20240726T000000
DTEND;TZID=UTC:20240726T235959
DTSTAMP:20260423T200958
CREATED:20240712T135533Z
LAST-MODIFIED:20240712T172534Z
UID:425-1721952000-1722038399@frankie.tv
SUMMARY:Dj Set - Montecastrilli (TR)
DESCRIPTION:Dj Set c/o Giardini Pubblici “I Merli” per il Merli Summer Festival
URL:https://frankie.tv/evento/dj-set-montecastrilli-tr/
LOCATION:Montecastrilli\, Montecastrilli\, TR\, Italia
CATEGORIES:Dj Set
ATTACH;FMTTYPE=image/jpeg:https://frankie.tv/wp-content/uploads/2024/07/Merli-Festival-678x381-1.jpg
END:VEVENT
END:VCALENDAR